BEGIN:VCALENDAR
VERSION:2.0
PRODID:-//Alma Tanguera Provence - ECPv6.15.20//NONSGML v1.0//EN
CALSCALE:GREGORIAN
METHOD:PUBLISH
X-WR-CALNAME:Alma Tanguera Provence
X-ORIGINAL-URL:https://alma-tanguera-provence.fr
X-WR-CALDESC:Évènements pour Alma Tanguera Provence
REFRESH-INTERVAL;VALUE=DURATION:PT1H
X-Robots-Tag:noindex
X-PUBLISHED-TTL:PT1H
BEGIN:VTIMEZONE
TZID:UTC
BEGIN:STANDARD
TZOFFSETFROM:+0000
TZOFFSETTO:+0000
TZNAME:UTC
DTSTART:20240101T000000
END:STANDARD
END:VTIMEZONE
BEGIN:VEVENT
DTSTART;TZID=UTC:20251006T200000
DTEND;TZID=UTC:20251006T223000
DTSTAMP:20260425T122241
CREATED:20250807T083606Z
LAST-MODIFIED:20250915T093651Z
UID:1087-1759780800-1759789800@alma-tanguera-provence.fr
SUMMARY:PRATIQUE TANGO AUX ARCS SUR ARGENS
DESCRIPTION:de 19 h 30 à 22h pratique tango argentin \n  \ntarif / 2 € la pratique pour les adhérents   –    5 € la pratique pour les non-adhérents \nPossibilité d’acquérir une carte annuelle ou une carte de 10 pratiques (nous consulter pour les tarifs des cartes)
URL:https://alma-tanguera-provence.fr/event/cours-kane-et-barbara-3/
LOCATION:Château Morard aux Arcs sur Argens\, Quartier Notre Dame\, LES ARCS SUR ARGENS\, 83460\, France
END:VEVENT
END:VCALENDAR