BEGIN:VCALENDAR
VERSION:2.0
PRODID:-//Alma Tanguera Provence - ECPv6.15.20//NONSGML v1.0//EN
CALSCALE:GREGORIAN
METHOD:PUBLISH
X-WR-CALNAME:Alma Tanguera Provence
X-ORIGINAL-URL:https://alma-tanguera-provence.fr
X-WR-CALDESC:Évènements pour Alma Tanguera Provence
REFRESH-INTERVAL;VALUE=DURATION:PT1H
X-Robots-Tag:noindex
X-PUBLISHED-TTL:PT1H
BEGIN:VTIMEZONE
TZID:UTC
BEGIN:STANDARD
TZOFFSETFROM:+0000
TZOFFSETTO:+0000
TZNAME:UTC
DTSTART:20240101T000000
END:STANDARD
END:VTIMEZONE
BEGIN:VEVENT
DTSTART;TZID=UTC:20251108T100000
DTEND;TZID=UTC:20251108T170000
DTSTAMP:20260425T104839
CREATED:20251104T141451Z
LAST-MODIFIED:20251104T142221Z
UID:1654-1762596000-1762621200@alma-tanguera-provence.fr
SUMMARY:ATELIER TANGO LA MOTTE
DESCRIPTION:Cours niveau 1   à 10 h. \nCours niveau 2  à 11 h. \nAuberge Espagnole  à  12 H. \nMilonga de 14 h. à 17 h. \n12 € le cours pour les Adhérents et 15 € pour les Non-adhérents \nLa Milonga est offerte aux participants du cours. Pour les extérieurs\, la milonga est à 5 € \n 
URL:https://alma-tanguera-provence.fr/event/atelier-tango-la-motte-9/
LOCATION:Salle du Cercle\, Avenue Achille Rouvier\, La Motte\, 83920\, France
END:VEVENT
END:VCALENDAR