BEGIN:VCALENDAR
VERSION:2.0
PRODID:-//Alma Tanguera Provence - ECPv6.15.20//NONSGML v1.0//EN
CALSCALE:GREGORIAN
METHOD:PUBLISH
X-WR-CALNAME:Alma Tanguera Provence
X-ORIGINAL-URL:https://alma-tanguera-provence.fr
X-WR-CALDESC:Évènements pour Alma Tanguera Provence
REFRESH-INTERVAL;VALUE=DURATION:PT1H
X-Robots-Tag:noindex
X-PUBLISHED-TTL:PT1H
BEGIN:VTIMEZONE
TZID:UTC
BEGIN:STANDARD
TZOFFSETFROM:+0000
TZOFFSETTO:+0000
TZNAME:UTC
DTSTART:20240101T000000
END:STANDARD
END:VTIMEZONE
BEGIN:VEVENT
DTSTART;TZID=UTC:20251215T193000
DTEND;TZID=UTC:20251215T220000
DTSTAMP:20260425T105856
CREATED:20250807T084348Z
LAST-MODIFIED:20251212T103743Z
UID:1099-1765827000-1765836000@alma-tanguera-provence.fr
SUMMARY:Cours avec Kane et Barbara  aux Arcs sur Argens
DESCRIPTION:19 h 30    Cours 1\n20 h 30   Cours 2\n\nTarif / 12 € le cours pour les adhérents   –   15 € le cours pour les non-adhérents
URL:https://alma-tanguera-provence.fr/event/cours-kane-et-barbara-7/
LOCATION:Château Morard aux Arcs sur Argens\, Quartier Notre Dame\, LES ARCS SUR ARGENS\, 83460\, France
END:VEVENT
END:VCALENDAR