BEGIN:VCALENDAR
VERSION:2.0
PRODID:-//Alma Tanguera Provence - ECPv6.15.20//NONSGML v1.0//EN
CALSCALE:GREGORIAN
METHOD:PUBLISH
X-ORIGINAL-URL:https://alma-tanguera-provence.fr
X-WR-CALDESC:Évènements pour Alma Tanguera Provence
REFRESH-INTERVAL;VALUE=DURATION:PT1H
X-Robots-Tag:noindex
X-PUBLISHED-TTL:PT1H
BEGIN:VTIMEZONE
TZID:UTC
BEGIN:STANDARD
TZOFFSETFROM:+0000
TZOFFSETTO:+0000
TZNAME:UTC
DTSTART:20250101T000000
END:STANDARD
END:VTIMEZONE
BEGIN:VEVENT
DTSTART;TZID=UTC:20260205T193000
DTEND;TZID=UTC:20260205T220000
DTSTAMP:20260423T111753
CREATED:20250807T094511Z
LAST-MODIFIED:20251013T105933Z
UID:1174-1770319800-1770328800@alma-tanguera-provence.fr
SUMMARY:COURS SEMI PARTICULIER ET COURS COLLECTIF
DESCRIPTION:  \n\n19 h. 30 à 20 h. 30  –  Cours semi particulier (2 à 4 personnes maximum) – Pour inscription\, tarif et conditions\, contacter Kane au 07.75.73.24.06   \n\n  \n\n20 h.30 à 22 h. – Cours collectif – Tarif / 12 € pour les adhérents\, 15 € pour les non-adhérents
URL:https://alma-tanguera-provence.fr/event/pratique-tango-draguignan/
LOCATION:Club Leo Lagrange\, Draguignan\, France
END:VEVENT
END:VCALENDAR