BEGIN:VCALENDAR
VERSION:2.0
PRODID:-//Alma Tanguera Provence - ECPv6.15.20//NONSGML v1.0//EN
CALSCALE:GREGORIAN
METHOD:PUBLISH
X-WR-CALNAME:Alma Tanguera Provence
X-ORIGINAL-URL:https://alma-tanguera-provence.fr
X-WR-CALDESC:Évènements pour Alma Tanguera Provence
REFRESH-INTERVAL;VALUE=DURATION:PT1H
X-Robots-Tag:noindex
X-PUBLISHED-TTL:PT1H
BEGIN:VTIMEZONE
TZID:UTC
BEGIN:STANDARD
TZOFFSETFROM:+0000
TZOFFSETTO:+0000
TZNAME:UTC
DTSTART:20250101T000000
END:STANDARD
END:VTIMEZONE
BEGIN:VEVENT
DTSTART;TZID=UTC:20260212T193000
DTEND;TZID=UTC:20260212T220000
DTSTAMP:20260423T113509
CREATED:20250807T094739Z
LAST-MODIFIED:20251013T105838Z
UID:1176-1770924600-1770933600@alma-tanguera-provence.fr
SUMMARY:PRATIQUE TANGO A DRAGUIGNAN
DESCRIPTION:de 19 h. 30 à 22 h. pratique tango argentin \ntarif / 2 € la pratique pour les adhérents    –   5 € la pratique pour les non-adhérents \nPossibilité d’acquérir un carte annuelle ou une carte de 10 pratiques (nous consulter pour le tarif des cartes)
URL:https://alma-tanguera-provence.fr/event/pratique-tango-a-draguignan/
LOCATION:Club Leo Lagrange\, Draguignan\, France
END:VEVENT
END:VCALENDAR