BEGIN:VCALENDAR
VERSION:2.0
PRODID:-//Alma Tanguera Provence - ECPv6.15.20//NONSGML v1.0//EN
CALSCALE:GREGORIAN
METHOD:PUBLISH
X-ORIGINAL-URL:https://alma-tanguera-provence.fr
X-WR-CALDESC:Évènements pour Alma Tanguera Provence
REFRESH-INTERVAL;VALUE=DURATION:PT1H
X-Robots-Tag:noindex
X-PUBLISHED-TTL:PT1H
BEGIN:VTIMEZONE
TZID:UTC
BEGIN:STANDARD
TZOFFSETFROM:+0000
TZOFFSETTO:+0000
TZNAME:UTC
DTSTART:20250101T000000
END:STANDARD
END:VTIMEZONE
BEGIN:VEVENT
DTSTART;TZID=UTC:20260215T000000
DTEND;TZID=UTC:20260301T235959
DTSTAMP:20260423T095509
CREATED:20250807T113734Z
LAST-MODIFIED:20250807T113734Z
UID:1231-1771113600-1772409599@alma-tanguera-provence.fr
SUMMARY:VACANCES SCOLAIRES / PAS DE COURS\, PAS DE PRATIQUE TANGO
DESCRIPTION:DU 15 FEVRIER 2026 AU 1ER MARS 2026 INCLUS /   PAS DE COURS\, PAS DE PRATIQUES TANGO AUX ARCS ET A DRAGUIGNAN \nSALLES NON DISPONIBLES PENDANT LES VACANCES SCOLAIRES 
URL:https://alma-tanguera-provence.fr/event/vacances-scolaires-pas-de-cours-pas-de-pratique-tango-2/
END:VEVENT
BEGIN:VEVENT
DTSTART;TZID=UTC:20260222T160000
DTEND;TZID=UTC:20260222T170000
DTSTAMP:20260423T095509
CREATED:20260217T135343Z
LAST-MODIFIED:20260217T135343Z
UID:1904-1771776000-1771779600@alma-tanguera-provence.fr
SUMMARY:COURS DE CHACARERA ET DE ZAMBA
DESCRIPTION:En préambule à notre milonga du Blavet\, Kane & Barbara vous proposent des cours de chacarera et de zamba
URL:https://alma-tanguera-provence.fr/event/cours-de-chacarera-et-de-zamba/
LOCATION:Domaine du Blavet\, 346 Route de Marchandises\, Rocquebrune-sur-Argens\, 83520\, France
END:VEVENT
BEGIN:VEVENT
DTSTART;TZID=UTC:20260222T170000
DTEND;TZID=UTC:20260222T210000
DTSTAMP:20260423T095509
CREATED:20250729T075148Z
LAST-MODIFIED:20260217T135616Z
UID:791-1771779600-1771794000@alma-tanguera-provence.fr
SUMMARY:MILONGA DU BLAVET
DESCRIPTION:17 h. à 21 h.  Milonga \nDJ  PHILIPPE
URL:https://alma-tanguera-provence.fr/event/milonga-du-blavet-4/
LOCATION:Domaine du Blavet\, 346 Route de Marchandises\, Rocquebrune-sur-Argens\, 83520\, France
END:VEVENT
END:VCALENDAR