BEGIN:VCALENDAR
VERSION:2.0
PRODID:-//Alma Tanguera Provence - ECPv6.15.20//NONSGML v1.0//EN
CALSCALE:GREGORIAN
METHOD:PUBLISH
X-WR-CALNAME:Alma Tanguera Provence
X-ORIGINAL-URL:https://alma-tanguera-provence.fr
X-WR-CALDESC:Évènements pour Alma Tanguera Provence
REFRESH-INTERVAL;VALUE=DURATION:PT1H
X-Robots-Tag:noindex
X-PUBLISHED-TTL:PT1H
BEGIN:VTIMEZONE
TZID:UTC
BEGIN:STANDARD
TZOFFSETFROM:+0000
TZOFFSETTO:+0000
TZNAME:UTC
DTSTART:20250101T000000
END:STANDARD
END:VTIMEZONE
BEGIN:VEVENT
DTSTART;TZID=UTC:20260309T193000
DTEND;TZID=UTC:20260309T220000
DTSTAMP:20260423T101429
CREATED:20250807T121111Z
LAST-MODIFIED:20260305T140601Z
UID:1264-1773084600-1773093600@alma-tanguera-provence.fr
SUMMARY:PRATIQUE TANGO AUX ARCS
DESCRIPTION:de 19H30 à 20H00 pratique tango argentin \nTarif / 2 € la pratique pour les adhérents    –    5 € la pratique pour les non- adhérents \nPossibilité d’acquérir une carte annuelle ou une carte de 10 pratiques (nous consulter pour le tarif des cartes)
URL:https://alma-tanguera-provence.fr/event/pratique-tango-aux-arcs-10/
LOCATION:Salle Hugony\, Espace J.C Hugony Place de la Libération\, Les Arcs-sur-Argens\, 83460\, France
END:VEVENT
END:VCALENDAR