BEGIN:VCALENDAR
VERSION:2.0
PRODID:-//Alma Tanguera Provence - ECPv6.15.20//NONSGML v1.0//EN
CALSCALE:GREGORIAN
METHOD:PUBLISH
X-ORIGINAL-URL:https://alma-tanguera-provence.fr
X-WR-CALDESC:Évènements pour Alma Tanguera Provence
REFRESH-INTERVAL;VALUE=DURATION:PT1H
X-Robots-Tag:noindex
X-PUBLISHED-TTL:PT1H
BEGIN:VTIMEZONE
TZID:UTC
BEGIN:STANDARD
TZOFFSETFROM:+0000
TZOFFSETTO:+0000
TZNAME:UTC
DTSTART:20250101T000000
END:STANDARD
END:VTIMEZONE
BEGIN:VEVENT
DTSTART;TZID=UTC:20260312T193000
DTEND;TZID=UTC:20260312T220000
DTSTAMP:20260423T084710
CREATED:20250807T095233Z
LAST-MODIFIED:20250807T095233Z
UID:1181-1773343800-1773352800@alma-tanguera-provence.fr
SUMMARY:PRATIQUE TANGO A DRAGUIGNAN
DESCRIPTION:de 19 h. 30 à 22 h. pratique tango argentin \ntarif / 2 € la pratique pour les adhérents   –    5 € la pratique pour les non-adhérents \nPossibilité d’acquérir une carte annuelle ou une carte de 10 pratiques (nous consulter pour le tarif des cartes)
URL:https://alma-tanguera-provence.fr/event/pratique-tango-a-draguignan-3/
LOCATION:Club Leo Lagrange\, Draguignan\, France
END:VEVENT
END:VCALENDAR