BEGIN:VCALENDAR
VERSION:2.0
PRODID:-//Alma Tanguera Provence - ECPv6.15.20//NONSGML v1.0//EN
CALSCALE:GREGORIAN
METHOD:PUBLISH
X-ORIGINAL-URL:https://alma-tanguera-provence.fr
X-WR-CALDESC:Évènements pour Alma Tanguera Provence
REFRESH-INTERVAL;VALUE=DURATION:PT1H
X-Robots-Tag:noindex
X-PUBLISHED-TTL:PT1H
BEGIN:VTIMEZONE
TZID:UTC
BEGIN:STANDARD
TZOFFSETFROM:+0000
TZOFFSETTO:+0000
TZNAME:UTC
DTSTART:20250101T000000
END:STANDARD
END:VTIMEZONE
BEGIN:VEVENT
DTSTART;TZID=UTC:20260323T165325
DTEND;TZID=UTC:20260323T165325
DTSTAMP:20260423T084639
CREATED:20250807T121309Z
LAST-MODIFIED:20260323T165325Z
UID:1267-1774284805-1774284805@alma-tanguera-provence.fr
SUMMARY:SALLE NON DISPONIBLE - Pas de Pratique et Pas de cours
DESCRIPTION:Salle requestionnée par la Mairie des Arcs sur Argens \n 
URL:https://alma-tanguera-provence.fr/event/pratique-tango-aux-arcs-11/
LOCATION:Salle Hugony\, Espace J.C Hugony Place de la Libération\, Les Arcs-sur-Argens\, 83460\, France
END:VEVENT
END:VCALENDAR