BEGIN:VCALENDAR
VERSION:2.0
PRODID:-//Alma Tanguera Provence - ECPv6.15.20//NONSGML v1.0//EN
CALSCALE:GREGORIAN
METHOD:PUBLISH
X-WR-CALNAME:Alma Tanguera Provence
X-ORIGINAL-URL:https://alma-tanguera-provence.fr
X-WR-CALDESC:Évènements pour Alma Tanguera Provence
REFRESH-INTERVAL;VALUE=DURATION:PT1H
X-Robots-Tag:noindex
X-PUBLISHED-TTL:PT1H
BEGIN:VTIMEZONE
TZID:UTC
BEGIN:STANDARD
TZOFFSETFROM:+0000
TZOFFSETTO:+0000
TZNAME:UTC
DTSTART:20250101T000000
END:STANDARD
END:VTIMEZONE
BEGIN:VEVENT
DTSTART;TZID=UTC:20260326T193000
DTEND;TZID=UTC:20260326T220000
DTSTAMP:20260423T101400
CREATED:20250807T095637Z
LAST-MODIFIED:20260227T142657Z
UID:1186-1774553400-1774562400@alma-tanguera-provence.fr
SUMMARY:PRATIQUE TANGO A DRAGUIGNAN
DESCRIPTION:de 19 h. 30 à 22 h. pratique tango argentin \n 
URL:https://alma-tanguera-provence.fr/event/pratique-tango-a-draguignan-5/
LOCATION:Club Leo Lagrange\, Draguignan\, France
END:VEVENT
END:VCALENDAR