BEGIN:VCALENDAR
VERSION:2.0
PRODID:-//Alma Tanguera Provence - ECPv6.15.20//NONSGML v1.0//EN
CALSCALE:GREGORIAN
METHOD:PUBLISH
X-WR-CALNAME:Alma Tanguera Provence
X-ORIGINAL-URL:https://alma-tanguera-provence.fr
X-WR-CALDESC:Évènements pour Alma Tanguera Provence
REFRESH-INTERVAL;VALUE=DURATION:PT1H
X-Robots-Tag:noindex
X-PUBLISHED-TTL:PT1H
BEGIN:VTIMEZONE
TZID:UTC
BEGIN:STANDARD
TZOFFSETFROM:+0000
TZOFFSETTO:+0000
TZNAME:UTC
DTSTART:20250101T000000
END:STANDARD
END:VTIMEZONE
BEGIN:VEVENT
DTSTART;TZID=UTC:20260330T193000
DTEND;TZID=UTC:20260330T220000
DTSTAMP:20260421T170004
CREATED:20250807T085352Z
LAST-MODIFIED:20260331T134320Z
UID:1115-1774899000-1774908000@alma-tanguera-provence.fr
SUMMARY:PRATIQUE TANGO ARGENTIN
DESCRIPTION:A partir de 19 h 30
URL:https://alma-tanguera-provence.fr/event/cours-kane-et-barbara-12/
LOCATION:Salle Hugony\, Espace J.C Hugony Place de la Libération\, Les Arcs-sur-Argens\, 83460\, France
END:VEVENT
END:VCALENDAR