BEGIN:VCALENDAR
VERSION:2.0
PRODID:-//Alma Tanguera Provence - ECPv6.15.20//NONSGML v1.0//EN
CALSCALE:GREGORIAN
METHOD:PUBLISH
X-ORIGINAL-URL:https://alma-tanguera-provence.fr
X-WR-CALDESC:Évènements pour Alma Tanguera Provence
REFRESH-INTERVAL;VALUE=DURATION:PT1H
X-Robots-Tag:noindex
X-PUBLISHED-TTL:PT1H
BEGIN:VTIMEZONE
TZID:UTC
BEGIN:STANDARD
TZOFFSETFROM:+0000
TZOFFSETTO:+0000
TZNAME:UTC
DTSTART:20250101T000000
END:STANDARD
END:VTIMEZONE
BEGIN:VEVENT
DTSTART;TZID=UTC:20260404T200000
DTEND;TZID=UTC:20260404T235900
DTSTAMP:20260421T165057
CREATED:20250915T101832Z
LAST-MODIFIED:20251013T104451Z
UID:1544-1775332800-1775347140@alma-tanguera-provence.fr
SUMMARY:LA COQUETA
DESCRIPTION:Milonga…… deux salles\, deux ambiances \nTango traditionnel   et   Tango Alternatif \nDJ  /  BYC BERNARDO  pour le Tango Traditionnel  –  Salle 1 \n FABIO DE GIOVANNI (Nice) pour le Tango Alternatif  –    Salle 2 \nTarif  / 10 € pour les Adhérents  –  12 € pour les non-adhérents
URL:https://alma-tanguera-provence.fr/event/1544/
LOCATION:HYPE DANCE SCHOOL\, 229 VIA NOVA\, FREJUS\, 83600\, France
END:VEVENT
END:VCALENDAR