BEGIN:VCALENDAR
VERSION:2.0
PRODID:-//Alma Tanguera Provence - ECPv6.15.20//NONSGML v1.0//EN
CALSCALE:GREGORIAN
METHOD:PUBLISH
X-WR-CALNAME:Alma Tanguera Provence
X-ORIGINAL-URL:https://alma-tanguera-provence.fr
X-WR-CALDESC:Évènements pour Alma Tanguera Provence
REFRESH-INTERVAL;VALUE=DURATION:PT1H
X-Robots-Tag:noindex
X-PUBLISHED-TTL:PT1H
BEGIN:VTIMEZONE
TZID:UTC
BEGIN:STANDARD
TZOFFSETFROM:+0000
TZOFFSETTO:+0000
TZNAME:UTC
DTSTART:20250101T000000
END:STANDARD
END:VTIMEZONE
BEGIN:VEVENT
DTSTART;TZID=UTC:20260406T000000
DTEND;TZID=UTC:20260406T235959
DTSTAMP:20260421T165012
CREATED:20250807T122222Z
LAST-MODIFIED:20250807T122222Z
UID:1279-1775433600-1775519999@alma-tanguera-provence.fr
SUMMARY:LUNDI DE PAQUES  /  PAS DE COURS\, PAS DE PRATIQUE TANGO
DESCRIPTION:LE LUNDI 6 AVRIL 2026\, LUNDI DE PAQUES\, JOUR FERIE. \n  PAS DE COURS\, PAS DE PRATIQUE TANGO \nSALLES NON DISPONIBLES
URL:https://alma-tanguera-provence.fr/event/lundi-de-paques-pas-de-cours-pas-de-pratique-tango/
END:VEVENT
END:VCALENDAR