BEGIN:VCALENDAR
VERSION:2.0
PRODID:-//Alma Tanguera Provence - ECPv6.15.20//NONSGML v1.0//EN
CALSCALE:GREGORIAN
METHOD:PUBLISH
X-WR-CALNAME:Alma Tanguera Provence
X-ORIGINAL-URL:https://alma-tanguera-provence.fr
X-WR-CALDESC:Évènements pour Alma Tanguera Provence
REFRESH-INTERVAL;VALUE=DURATION:PT1H
X-Robots-Tag:noindex
X-PUBLISHED-TTL:PT1H
BEGIN:VTIMEZONE
TZID:UTC
BEGIN:STANDARD
TZOFFSETFROM:+0000
TZOFFSETTO:+0000
TZNAME:UTC
DTSTART:20250101T000000
END:STANDARD
END:VTIMEZONE
BEGIN:VEVENT
DTSTART;TZID=UTC:20260427T193000
DTEND;TZID=UTC:20260427T220000
DTSTAMP:20260421T165922
CREATED:20250807T085636Z
LAST-MODIFIED:20260112T104815Z
UID:1118-1777318200-1777327200@alma-tanguera-provence.fr
SUMMARY:COURS KANE et BARBARA
DESCRIPTION:19 h.30 cours Niveau 1 \n21 h. cours Niveau 2 \nTarif / 12 € le cours pour les adhérents \n15 € le cours pour les non-adhérents
URL:https://alma-tanguera-provence.fr/event/cours-kane-et-barbara-13/
LOCATION:Salle Hugony\, Espace J.C Hugony Place de la Libération\, Les Arcs-sur-Argens\, 83460\, France
END:VEVENT
END:VCALENDAR