BEGIN:VCALENDAR
VERSION:2.0
PRODID:-//Alma Tanguera Provence - ECPv6.15.20//NONSGML v1.0//EN
CALSCALE:GREGORIAN
METHOD:PUBLISH
X-ORIGINAL-URL:https://alma-tanguera-provence.fr
X-WR-CALDESC:Évènements pour Alma Tanguera Provence
REFRESH-INTERVAL;VALUE=DURATION:PT1H
X-Robots-Tag:noindex
X-PUBLISHED-TTL:PT1H
BEGIN:VTIMEZONE
TZID:UTC
BEGIN:STANDARD
TZOFFSETFROM:+0000
TZOFFSETTO:+0000
TZNAME:UTC
DTSTART:20250101T000000
END:STANDARD
END:VTIMEZONE
BEGIN:VEVENT
DTSTART;TZID=UTC:20260514T000000
DTEND;TZID=UTC:20260514T235959
DTSTAMP:20260423T095509
CREATED:20250807T122450Z
LAST-MODIFIED:20250807T122450Z
UID:1282-1778716800-1778803199@alma-tanguera-provence.fr
SUMMARY:JEUDI DE L'ASCENSION\, JOUR FERIE. PAS DE COURS\, PAS DE PRATIQUE TANGO
DESCRIPTION:JEUDI 14 MAI 2026\, JEUDI DE L’ASCENSION.  \n JOUR FERIE. \nPAS DE COURS\, PAS DE PRATIQUE TANGO \nSALLES NON DISPONIBLES
URL:https://alma-tanguera-provence.fr/event/jeudi-de-lascension-jour-ferie-pas-de-cours-pas-de-pratique-tango/
END:VEVENT
END:VCALENDAR