BEGIN:VCALENDAR
VERSION:2.0
PRODID:-//Alma Tanguera Provence - ECPv6.15.20//NONSGML v1.0//EN
CALSCALE:GREGORIAN
METHOD:PUBLISH
X-WR-CALNAME:Alma Tanguera Provence
X-ORIGINAL-URL:https://alma-tanguera-provence.fr
X-WR-CALDESC:Évènements pour Alma Tanguera Provence
REFRESH-INTERVAL;VALUE=DURATION:PT1H
X-Robots-Tag:noindex
X-PUBLISHED-TTL:PT1H
BEGIN:VTIMEZONE
TZID:UTC
BEGIN:STANDARD
TZOFFSETFROM:+0000
TZOFFSETTO:+0000
TZNAME:UTC
DTSTART:20240101T000000
END:STANDARD
END:VTIMEZONE
BEGIN:VEVENT
DTSTART;TZID=UTC:20251002T193000
DTEND;TZID=UTC:20251002T220000
DTSTAMP:20260425T105814
CREATED:20250807T091429Z
LAST-MODIFIED:20250917T180352Z
UID:1140-1759433400-1759442400@alma-tanguera-provence.fr
SUMMARY:COURS  avec KANE Y BARBARA
DESCRIPTION:19 h 30     –     Cours 1\n20 h 30    –     Cours 2\n\nTarif / 12 € le cours pour les adhérents   –    15 € le cours pour les non-adhérents
URL:https://alma-tanguera-provence.fr/event/1140/
LOCATION:Club Leo Lagrange\, Draguignan\, France
END:VEVENT
BEGIN:VEVENT
DTSTART;TZID=UTC:20251004T200000
DTEND;TZID=UTC:20251004T235900
DTSTAMP:20260425T105814
CREATED:20250902T144550Z
LAST-MODIFIED:20250915T103610Z
UID:1494-1759608000-1759622340@alma-tanguera-provence.fr
SUMMARY:LA COQUETA
DESCRIPTION:Milonga…… deux salles\, deux ambiances \nTango traditionnel   et   Tango Alternatif \nDJ  /    ROBERTO (Marseille) pour le Tango Traditionnel  –  Salle 1 \nFABIO DE GIOVANNI (Nice) pour le Tango Alternatif  –    Salle 2 \nTarif  / 10 € pour les Adhérents  –  12 € pour les non-adhérents
URL:https://alma-tanguera-provence.fr/event/la-coqueta-2/
LOCATION:HYPE DANCE SCHOOL\, 229 VIA NOVA\, FREJUS\, 83600\, France
END:VEVENT
BEGIN:VEVENT
DTSTART;TZID=UTC:20251006T200000
DTEND;TZID=UTC:20251006T223000
DTSTAMP:20260425T105814
CREATED:20250807T083606Z
LAST-MODIFIED:20250915T093651Z
UID:1087-1759780800-1759789800@alma-tanguera-provence.fr
SUMMARY:PRATIQUE TANGO AUX ARCS SUR ARGENS
DESCRIPTION:de 19 h 30 à 22h pratique tango argentin \n  \ntarif / 2 € la pratique pour les adhérents   –    5 € la pratique pour les non-adhérents \nPossibilité d’acquérir une carte annuelle ou une carte de 10 pratiques (nous consulter pour les tarifs des cartes)
URL:https://alma-tanguera-provence.fr/event/cours-kane-et-barbara-3/
LOCATION:Château Morard aux Arcs sur Argens\, Quartier Notre Dame\, LES ARCS SUR ARGENS\, 83460\, France
END:VEVENT
BEGIN:VEVENT
DTSTART;TZID=UTC:20251009T193000
DTEND;TZID=UTC:20251009T223000
DTSTAMP:20260425T105814
CREATED:20250807T091532Z
LAST-MODIFIED:20250807T131822Z
UID:1143-1760038200-1760049000@alma-tanguera-provence.fr
SUMMARY:PRATIQUE TANGO DRAGUIGNAN
DESCRIPTION:19 h. 30 à 22 h. pratique tango argentin \ntarif / 2 € pour les adhérents – 5 € pour les non-adhérents. Possibilité d’acquérir carte annuelle ou carte 10 pratiques (nous contacter pour tarif des cartes)
URL:https://alma-tanguera-provence.fr/event/pratique-tango-argentin-3/
LOCATION:Club Leo Lagrange\, Draguignan\, France
END:VEVENT
BEGIN:VEVENT
DTSTART;TZID=UTC:20251011T000000
DTEND;TZID=UTC:20251011T235959
DTSTAMP:20260425T105814
CREATED:20250729T065520Z
LAST-MODIFIED:20250807T131743Z
UID:758-1760140800-1760227199@alma-tanguera-provence.fr
SUMMARY:ATELIER TANGO LA MOTTE
DESCRIPTION:Cours niveau 1   à 10 h. \nCours niveau 2  à 11 h. \nAuberge Espagnole  à  12 H. \nMilonga de 14 h. à 17 h. \n12 € le cours pour les Adhérents et 15 € pour les Non-adhérents \nLa Milonga est offerte aux participants du cours. Pour les extérieurs\, la milonga est à 5 € \nAteliers uniques à la Motte avec un super couple de maestros en tournée en France (Suspense !!!)
URL:https://alma-tanguera-provence.fr/event/atelier-la-motte/
LOCATION:Salle du Cercle\, Avenue Achille Rouvier\, La Motte\, 83920\, France
END:VEVENT
BEGIN:VEVENT
DTSTART;TZID=UTC:20251013T200000
DTEND;TZID=UTC:20251013T223000
DTSTAMP:20260425T105814
CREATED:20250807T114955Z
LAST-MODIFIED:20251013T112418Z
UID:1243-1760385600-1760394600@alma-tanguera-provence.fr
SUMMARY:PRATIQUE TANGO AUX ARCS
DESCRIPTION:de 20 h. à 22 h. 30 pratique tango argentin \ntarif / 2 € la pratique pour les adhérents    –    5 € la pratique pour les non-adhérents \nPossibilité d’acquérir une carte annuelle ou une carte de 10 pratiques (nous consulter pour le tarif des cartes)
URL:https://alma-tanguera-provence.fr/event/pratique-tango-aux-arcs-3/
LOCATION:Château Morard aux Arcs sur Argens\, Quartier Notre Dame\, LES ARCS SUR ARGENS\, 83460\, France
END:VEVENT
BEGIN:VEVENT
DTSTART;TZID=UTC:20251016T193000
DTEND;TZID=UTC:20251016T220000
DTSTAMP:20260425T105814
CREATED:20250807T091932Z
LAST-MODIFIED:20251013T112336Z
UID:1146-1760643000-1760652000@alma-tanguera-provence.fr
SUMMARY:PRATIQUE TANGO DRAGUIGNAN
DESCRIPTION:de 19 h. 30 à 22 h. pratique tango argentin \nTarif / 2 € la pratique pour les adhérents – 5 € la pratique pour les non adhérents \nPossibilité d’acquérir une carte annuelle ou une carte de 10 pratiques (nous contacter pour les tarifs des cartes)
URL:https://alma-tanguera-provence.fr/event/pratique-tango-argentin-4/
LOCATION:Club Leo Lagrange\, Draguignan\, France
END:VEVENT
BEGIN:VEVENT
DTSTART;TZID=UTC:20251019T080000
DTEND;TZID=UTC:20251102T170000
DTSTAMP:20260425T105814
CREATED:20250807T112505Z
LAST-MODIFIED:20250807T112505Z
UID:1226-1760860800-1762102800@alma-tanguera-provence.fr
SUMMARY:VACANCES SCOLAIRE PAS DE COURS ET PAS DE PRATIQUE TANGO
DESCRIPTION:DU 19 OCTOBRE 2025 au 2 NOVEMBRE 2025 INCLUS  PAS DE COURS\, PAS DE PRATIQUE TANGO  \n LES SALLES DES ARCS ET DE DRAGUIGNAN NE SONT PAS DISPONIBLES \n 
URL:https://alma-tanguera-provence.fr/event/vacances-scolaire-pas-de-cours-et-pas-de-pratique-tango/
END:VEVENT
BEGIN:VEVENT
DTSTART;TZID=UTC:20251026T160000
DTEND;TZID=UTC:20251026T210000
DTSTAMP:20260425T105814
CREATED:20250729T074404Z
LAST-MODIFIED:20251022T111550Z
UID:782-1761494400-1761512400@alma-tanguera-provence.fr
SUMMARY:MILONGA DU BLAVET
DESCRIPTION:16 h. à 17 h.  Cours   –  15 € le cours – Pensez à vous inscrire au 06.63.80.12.25 \n17 h. à  21 h.   Milonga   DJ  Kane Nieves
URL:https://alma-tanguera-provence.fr/event/milonga-du-blavet/
LOCATION:Domaine du Blavet\, 346 Route de Marchandises\, Rocquebrune-sur-Argens\, 83520\, France
END:VEVENT
END:VCALENDAR