BEGIN:VCALENDAR
VERSION:2.0
PRODID:-//Alma Tanguera Provence - ECPv6.15.20//NONSGML v1.0//EN
CALSCALE:GREGORIAN
METHOD:PUBLISH
X-ORIGINAL-URL:https://alma-tanguera-provence.fr
X-WR-CALDESC:Évènements pour Alma Tanguera Provence
REFRESH-INTERVAL;VALUE=DURATION:PT1H
X-Robots-Tag:noindex
X-PUBLISHED-TTL:PT1H
BEGIN:VTIMEZONE
TZID:UTC
BEGIN:STANDARD
TZOFFSETFROM:+0000
TZOFFSETTO:+0000
TZNAME:UTC
DTSTART:20240101T000000
END:STANDARD
END:VTIMEZONE
BEGIN:VEVENT
DTSTART;TZID=UTC:20251221T000000
DTEND;TZID=UTC:20260104T235959
DTSTAMP:20260423T113654
CREATED:20250807T113503Z
LAST-MODIFIED:20250807T113503Z
UID:1228-1766275200-1767571199@alma-tanguera-provence.fr
SUMMARY:VACANCES SCOLAIRES / PAS DE COURS\, PAS DE PRATIQUE TANGO
DESCRIPTION:DU 21 DECEMBRE 2025 AU 4 JANVIER 2026 INCLUS\, PAS DE COURS ET PAS DE PRATIQUE TANGO AUX ARCS ET A DRAGUIGNAN \nSALLES NON DISPONIBLES PENDANT LES VACANCES SCOLAIRES
URL:https://alma-tanguera-provence.fr/event/vacances-scolaires-pas-de-cours-pas-de-pratique-tango/
END:VEVENT
BEGIN:VEVENT
DTSTART;TZID=UTC:20260103T200000
DTEND;TZID=UTC:20260103T235900
DTSTAMP:20260423T113654
CREATED:20250915T101117Z
LAST-MODIFIED:20260102T105455Z
UID:1536-1767470400-1767484740@alma-tanguera-provence.fr
SUMMARY:LA COQUETA
DESCRIPTION:Milonga…… deux salles\, deux ambiances \nTango traditionnel   et   Tango Alternatif \nDJ       ISABELLE CHASSAING (Nice)  pour le Tango Traditionnel  –  Salle 1 \nFABIO DE GIOVANNI (Nice) pour le Tango Alternatif  –    Salle 2 \nTarif  / 10 € pour les Adhérents  –  12 € pour les non-adhérents
URL:https://alma-tanguera-provence.fr/event/la-coqueta-5/
LOCATION:HYPE DANCE SCHOOL\, 229 VIA NOVA\, FREJUS\, 83600\, France
END:VEVENT
BEGIN:VEVENT
DTSTART;TZID=UTC:20260105T200000
DTEND;TZID=UTC:20260105T220000
DTSTAMP:20260423T113654
CREATED:20260102T170909Z
LAST-MODIFIED:20260102T171542Z
UID:1722-1767643200-1767650400@alma-tanguera-provence.fr
SUMMARY:PRATIQUE TANGO AUX ARCS
DESCRIPTION:De 20h00 à 22h30 :  pratique tango argentin \nTarif : 2 € la pratique pour les adhérents     –   5 € la pratique pour les non-adhérents \nPossibilité d’acquérir une carte annuelle ou une carte de 10 pratiques (consultez nous pour les tarifs des cartes)
URL:https://alma-tanguera-provence.fr/event/pratique-tango-les-arcs/
LOCATION:Château Morard aux Arcs sur Argens\, Quartier Notre Dame\, LES ARCS SUR ARGENS\, 83460\, France
END:VEVENT
BEGIN:VEVENT
DTSTART;TZID=UTC:20260108T193000
DTEND;TZID=UTC:20260108T220000
DTSTAMP:20260423T113654
CREATED:20250807T093453Z
LAST-MODIFIED:20260102T165424Z
UID:1166-1767900600-1767909600@alma-tanguera-provence.fr
SUMMARY:PRATIQUE TANGO DRAGUIGNAN
DESCRIPTION:De 19h30 à 22h00\,  pratique tango argentin. \nTarif : 2 € la pratique pour les adhérents   –    5 € la pratique pour les non-adhérents. \nPossibilité d’acquérir une carte annuelle ou une carte de 10 pratiques (nous consulter pour le tarif des cartes)
URL:https://alma-tanguera-provence.fr/event/pratique-tango-argentin-11/
LOCATION:Club Leo Lagrange\, Draguignan\, France
END:VEVENT
BEGIN:VEVENT
DTSTART;TZID=UTC:20260110T100000
DTEND;TZID=UTC:20260110T170000
DTSTAMP:20260423T113654
CREATED:20250729T070529Z
LAST-MODIFIED:20260102T105809Z
UID:765-1768039200-1768064400@alma-tanguera-provence.fr
SUMMARY:ATELIER TANGO LA MOTTE
DESCRIPTION:Cours Niveau 1  à  10 h. \nCours Niveau 2  à  11 h. \nAuberge Espagnole  à  12 h. \nMilonga de 14 h. à 17 h. \n12 € le cours pour les Adhérents  –  15 € le cours pour les Non-adhérents \nLa milonga est offerte aux participants du cours. Pour les extérieurs\, la milonga est à 5 €
URL:https://alma-tanguera-provence.fr/event/atelier-tango-la-motte-3/
LOCATION:Salle du Cercle\, Avenue Achille Rouvier\, La Motte\, 83920\, France
END:VEVENT
BEGIN:VEVENT
DTSTART;TZID=UTC:20260112T193000
DTEND;TZID=UTC:20260112T220000
DTSTAMP:20260423T113654
CREATED:20250807T120502Z
LAST-MODIFIED:20260112T104155Z
UID:1255-1768246200-1768255200@alma-tanguera-provence.fr
SUMMARY:COURS KANE et BARBARA
DESCRIPTION:19h30 cours Niveau 1 \n20h30 à 21h : Présentation des projets 2026 et inauguration salle autour du pot de l’amitié \n21h00 cours Niveau 2 \nTarif : 12 € le cours pour les adhérents – 15 € le cours pour les non-adhérents
URL:https://alma-tanguera-provence.fr/event/pratique-tango-aux-arcs-7/
LOCATION:Salle Hugony\, Espace J.C Hugony Place de la Libération\, Les Arcs-sur-Argens\, 83460\, France
END:VEVENT
BEGIN:VEVENT
DTSTART;TZID=UTC:20260115T193000
DTEND;TZID=UTC:20260115T220000
DTSTAMP:20260423T113654
CREATED:20250807T132908Z
LAST-MODIFIED:20260102T165902Z
UID:1324-1768505400-1768514400@alma-tanguera-provence.fr
SUMMARY:PRATIQUE TANGO DRAGUIGNAN
DESCRIPTION:De 19h30 à 22h00 :  pratique tango argentin \nTarif / 2 € la pratique pour les adhérents     –   5 € la pratique pour les non-adhérents \nPossibilité d’acquérir une carte annuelle ou une carte de 10 pratiques (consultez nous pour les tarifs des cartes)
URL:https://alma-tanguera-provence.fr/event/pratique-tango-draguignan-2/
LOCATION:Club Leo Lagrange\, Draguignan\, France
END:VEVENT
BEGIN:VEVENT
DTSTART;TZID=UTC:20260118T160000
DTEND;TZID=UTC:20260118T210000
DTSTAMP:20260423T113654
CREATED:20250729T075011Z
LAST-MODIFIED:20251013T110334Z
UID:789-1768752000-1768770000@alma-tanguera-provence.fr
SUMMARY:MILONGA DU BLAVET
DESCRIPTION:16  h. à 17 h.  Cours \n17 h.  à  21 h.  Milonga   DJ  Roselyne \n 
URL:https://alma-tanguera-provence.fr/event/milonga-du-blavet-3/
LOCATION:Domaine du Blavet\, 346 Route de Marchandises\, Rocquebrune-sur-Argens\, 83520\, France
END:VEVENT
BEGIN:VEVENT
DTSTART;TZID=UTC:20260119T193000
DTEND;TZID=UTC:20260119T220000
DTSTAMP:20260423T113654
CREATED:20250807T084705Z
LAST-MODIFIED:20260112T104410Z
UID:1105-1768851000-1768860000@alma-tanguera-provence.fr
SUMMARY:COURS KANE et BARBARA
DESCRIPTION:19 h. 30 cours Niveau 1 \n21 h. cours Niveau 2 \nTarif : 12 € le cours pour les adhérents – 15 € le cours pour les non-adhérents
URL:https://alma-tanguera-provence.fr/event/cours-kane-et-barbara-9/
LOCATION:Salle Hugony\, Espace J.C Hugony Place de la Libération\, Les Arcs-sur-Argens\, 83460\, France
END:VEVENT
BEGIN:VEVENT
DTSTART;TZID=UTC:20260126T193000
DTEND;TZID=UTC:20260126T220000
DTSTAMP:20260423T113654
CREATED:20250807T120704Z
LAST-MODIFIED:20260305T140925Z
UID:1258-1769455800-1769464800@alma-tanguera-provence.fr
SUMMARY:PRATIQUE TANGO AUX ARCS
DESCRIPTION:de 19H30 à 22H00 pratique tango argentin \nTarif / 2 € la pratique pour les adhérents    –   5 € la pratique pour les non-adhérents \nPossibilité d’acquérir une carte annuelle ou une carte de 10 pratiques (nous consulter pour le tarif des cartes)
URL:https://alma-tanguera-provence.fr/event/pratique-tango-aux-arcs-8/
LOCATION:Salle Hugony\, Espace J.C Hugony Place de la Libération\, Les Arcs-sur-Argens\, 83460\, France
END:VEVENT
BEGIN:VEVENT
DTSTART;TZID=UTC:20260129T193000
DTEND;TZID=UTC:20260129T220000
DTSTAMP:20260423T113654
CREATED:20250807T094109Z
LAST-MODIFIED:20260102T170046Z
UID:1172-1769715000-1769724000@alma-tanguera-provence.fr
SUMMARY:PRATIQUE TANGO A DRAGUIGNAN
DESCRIPTION:De 19h30 à 22h00 :  pratique tango argentin \nTarif / 2 € la pratique pour les adhérents     –   5 € la pratique pour les non-adhérents \nPossibilité d’acquérir une carte annuelle ou une carte de 10 pratiques (consultez nous pour les tarifs des cartes)
URL:https://alma-tanguera-provence.fr/event/pratique-tango-argentin-13/
LOCATION:Club Leo Lagrange\, Draguignan\, France
END:VEVENT
END:VCALENDAR