BEGIN:VCALENDAR
VERSION:2.0
PRODID:-//Alma Tanguera Provence - ECPv6.15.20//NONSGML v1.0//EN
CALSCALE:GREGORIAN
METHOD:PUBLISH
X-WR-CALNAME:Alma Tanguera Provence
X-ORIGINAL-URL:https://alma-tanguera-provence.fr
X-WR-CALDESC:Évènements pour Alma Tanguera Provence
REFRESH-INTERVAL;VALUE=DURATION:PT1H
X-Robots-Tag:noindex
X-PUBLISHED-TTL:PT1H
BEGIN:VTIMEZONE
TZID:UTC
BEGIN:STANDARD
TZOFFSETFROM:+0000
TZOFFSETTO:+0000
TZNAME:UTC
DTSTART:20250101T000000
END:STANDARD
END:VTIMEZONE
BEGIN:VEVENT
DTSTART;TZID=UTC:20260504T193000
DTEND;TZID=UTC:20260504T220000
DTSTAMP:20260421T165952
CREATED:20250807T085829Z
LAST-MODIFIED:20260112T105509Z
UID:1120-1777923000-1777932000@alma-tanguera-provence.fr
SUMMARY:COURS KANE et BARBARA
DESCRIPTION:19 h. 30 cours Niveau 1 \n21 h. cours Niveau 2 \nTarif / 12 € le cours pour les adhérents \n15 € le cours pour les non-adhérents
URL:https://alma-tanguera-provence.fr/event/cours-kane-et-barbara-14/
LOCATION:Salle Hugony\, Espace J.C Hugony Place de la Libération\, Les Arcs-sur-Argens\, 83460\, France
END:VEVENT
BEGIN:VEVENT
DTSTART;TZID=UTC:20260507T193000
DTEND;TZID=UTC:20260507T220000
DTSTAMP:20260421T165952
CREATED:20250807T110610Z
LAST-MODIFIED:20260227T143258Z
UID:1207-1778182200-1778191200@alma-tanguera-provence.fr
SUMMARY:PRATIQUE TANGO A DRAGUIGNAN
DESCRIPTION:de 19 h. 30 à 22 h. pratique tango argentin \nt
URL:https://alma-tanguera-provence.fr/event/pratique-tango-a-draguignan-9/
LOCATION:Club Leo Lagrange\, Draguignan\, France
END:VEVENT
BEGIN:VEVENT
DTSTART;TZID=UTC:20260509T100000
DTEND;TZID=UTC:20260509T170000
DTSTAMP:20260421T165952
CREATED:20250729T072849Z
LAST-MODIFIED:20250807T125017Z
UID:778-1778320800-1778346000@alma-tanguera-provence.fr
SUMMARY:ATELIER TANGO LA MOTTE
DESCRIPTION:Cours Niveau 1  à  10 h. \nCours Niveau 2  à  11 h. \nAuberge Espagnole à 12 h. \nMilonga de 14 h. à 17 h. \n12 € le cours pour les Adhérents – 15 € le cours pour les Non-adhérents \nLa milonga est offerte aux participants du cours. Pour les extérieurs\, la milonga est à 5 €
URL:https://alma-tanguera-provence.fr/event/atelier-tango-la-motte-7/
LOCATION:Salle du Cercle\, Avenue Achille Rouvier\, La Motte\, 83920\, France
END:VEVENT
BEGIN:VEVENT
DTSTART;TZID=UTC:20260511T193000
DTEND;TZID=UTC:20260511T220000
DTSTAMP:20260421T165952
CREATED:20250807T121528Z
LAST-MODIFIED:20260305T140302Z
UID:1270-1778527800-1778536800@alma-tanguera-provence.fr
SUMMARY:PRATIQUE TANGO AUX ARCS
DESCRIPTION:de 19H30 à 22H00 pratique tango \n 
URL:https://alma-tanguera-provence.fr/event/pratique-tango-aux-arcs-12/
LOCATION:Salle Hugony\, Espace J.C Hugony Place de la Libération\, Les Arcs-sur-Argens\, 83460\, France
END:VEVENT
BEGIN:VEVENT
DTSTART;TZID=UTC:20260514T000000
DTEND;TZID=UTC:20260514T235959
DTSTAMP:20260421T165952
CREATED:20250807T122450Z
LAST-MODIFIED:20250807T122450Z
UID:1282-1778716800-1778803199@alma-tanguera-provence.fr
SUMMARY:JEUDI DE L'ASCENSION\, JOUR FERIE. PAS DE COURS\, PAS DE PRATIQUE TANGO
DESCRIPTION:JEUDI 14 MAI 2026\, JEUDI DE L’ASCENSION.  \n JOUR FERIE. \nPAS DE COURS\, PAS DE PRATIQUE TANGO \nSALLES NON DISPONIBLES
URL:https://alma-tanguera-provence.fr/event/jeudi-de-lascension-jour-ferie-pas-de-cours-pas-de-pratique-tango/
END:VEVENT
BEGIN:VEVENT
DTSTART;TZID=UTC:20260516T183000
DTEND;TZID=UTC:20260516T193000
DTSTAMP:20260421T165952
CREATED:20260416T094826Z
LAST-MODIFIED:20260416T095142Z
UID:2072-1778956200-1778959800@alma-tanguera-provence.fr
SUMMARY:STAGE TECHNIQUE FEMME
DESCRIPTION:En prélude à sa milonga mensuelle « LA COQUETA » du samedi 16 MAI 2026\, LESLIE FOLCARELLI\, professeur de tango argentin et DJ international nous proposera\, de 18h30 à 19h30\, un workshop « Technique femme ».\nPensez à vous inscrire auprès de Leslie au 06.77.50.98.97 ou auprès de Roselyne au 06.63.80.12.25.
URL:https://alma-tanguera-provence.fr/event/stage-technique-femme/
LOCATION:HYPE DANCE SCHOOL\, 229 VIA NOVA\, FREJUS\, 83600\, France
END:VEVENT
BEGIN:VEVENT
DTSTART;TZID=UTC:20260516T200000
DTEND;TZID=UTC:20260516T235900
DTSTAMP:20260421T165952
CREATED:20250915T102023Z
LAST-MODIFIED:20260415T122354Z
UID:1546-1778961600-1778975940@alma-tanguera-provence.fr
SUMMARY:LA COQUETA
DESCRIPTION:Milonga…… deux salles\, deux ambiances      – \nTango traditionnel   et   Tango Alternatif \nDJ  /   LESLIE (Nice) pour le Tango Traditionnel  –  Salle 1 \n            FREDERIC MADONIA pour le Tango Alternatif  –    Salle 2 \nTarif  / 10 € pour les Adhérents  –  12 € pour les non-adhérents \nUn workshop « Technique Femme » est proposé par Leslie FOLCARELLI de 18h30 à 19h30 – PAF / 15 €
URL:https://alma-tanguera-provence.fr/event/la-coqueta-8/
LOCATION:HYPE DANCE SCHOOL\, 229 VIA NOVA\, FREJUS\, 83600\, France
END:VEVENT
BEGIN:VEVENT
DTSTART;TZID=UTC:20260518T193000
DTEND;TZID=UTC:20260518T220000
DTSTAMP:20260421T165952
CREATED:20250807T090007Z
LAST-MODIFIED:20260112T105420Z
UID:1123-1779132600-1779141600@alma-tanguera-provence.fr
SUMMARY:COURS KANE et BARBARA
DESCRIPTION:19 h. 30 cours Niveau 1 \n21 h. cours Niveau 2 \nTarif /  12 € le cours pour les adhérents \n15 € le cours pour les non-adhérents
URL:https://alma-tanguera-provence.fr/event/cours-kane-et-barbara-15/
LOCATION:Salle Hugony\, Espace J.C Hugony Place de la Libération\, Les Arcs-sur-Argens\, 83460\, France
END:VEVENT
BEGIN:VEVENT
DTSTART;TZID=UTC:20260521T193000
DTEND;TZID=UTC:20260521T220000
DTSTAMP:20260421T165952
CREATED:20250807T110835Z
LAST-MODIFIED:20260227T144637Z
UID:1210-1779391800-1779400800@alma-tanguera-provence.fr
SUMMARY:PRATIQUE TANGO A DRAGUIGNAN
DESCRIPTION:  \n\n 19 h. 30 à 22 h   PRATIQUE TANGO ARGENTIN
URL:https://alma-tanguera-provence.fr/event/pratique-tango-a-draguignan-10/
LOCATION:Club Leo Lagrange\, Draguignan\, France
END:VEVENT
BEGIN:VEVENT
DTSTART;TZID=UTC:20260525T000000
DTEND;TZID=UTC:20260525T235959
DTSTAMP:20260421T165952
CREATED:20250807T122618Z
LAST-MODIFIED:20250807T122618Z
UID:1285-1779667200-1779753599@alma-tanguera-provence.fr
SUMMARY:LUNDI DE PENTECOTE / PAS DE COURS\, PAS DE PRATIQUE TANGO
DESCRIPTION:LUNDI 25 MAI 2026\, LUNDI DE PENTECOTE \nJOUR FERIE \nPAS DE COURS\, PAS DE PRATIQUE TANGO \nSALLES NON DISPONIBLES
URL:https://alma-tanguera-provence.fr/event/lundi-de-pentecote-pas-de-cours-pas-de-pratique-tango/
END:VEVENT
BEGIN:VEVENT
DTSTART;TZID=UTC:20260528T193000
DTEND;TZID=UTC:20260528T220000
DTSTAMP:20260421T165952
CREATED:20250807T111325Z
LAST-MODIFIED:20260227T143654Z
UID:1212-1779996600-1780005600@alma-tanguera-provence.fr
SUMMARY:PRATIQUE TANGO A DRAGUIGNAN
DESCRIPTION:de 19 h. 30 à 22 h. pratique tango argentin \n 
URL:https://alma-tanguera-provence.fr/event/pratique-tango-a-draguignan-11/
LOCATION:Club Leo Lagrange\, Draguignan\, France
END:VEVENT
END:VCALENDAR