BEGIN:VCALENDAR
VERSION:2.0
PRODID:-//Alma Tanguera Provence - ECPv6.15.20//NONSGML v1.0//EN
CALSCALE:GREGORIAN
METHOD:PUBLISH
X-ORIGINAL-URL:https://alma-tanguera-provence.fr
X-WR-CALDESC:Évènements pour Alma Tanguera Provence
REFRESH-INTERVAL;VALUE=DURATION:PT1H
X-Robots-Tag:noindex
X-PUBLISHED-TTL:PT1H
BEGIN:VTIMEZONE
TZID:UTC
BEGIN:STANDARD
TZOFFSETFROM:+0000
TZOFFSETTO:+0000
TZNAME:UTC
DTSTART:20250101T000000
END:STANDARD
END:VTIMEZONE
BEGIN:VEVENT
DTSTART;TZID=UTC:20260521T193000
DTEND;TZID=UTC:20260521T220000
DTSTAMP:20260421T170342
CREATED:20250807T110835Z
LAST-MODIFIED:20260227T144637Z
UID:1210-1779391800-1779400800@alma-tanguera-provence.fr
SUMMARY:PRATIQUE TANGO A DRAGUIGNAN
DESCRIPTION:  \n\n 19 h. 30 à 22 h   PRATIQUE TANGO ARGENTIN
URL:https://alma-tanguera-provence.fr/event/pratique-tango-a-draguignan-10/
LOCATION:Club Leo Lagrange\, Draguignan\, France
END:VEVENT
BEGIN:VEVENT
DTSTART;TZID=UTC:20260525T000000
DTEND;TZID=UTC:20260525T235959
DTSTAMP:20260421T170342
CREATED:20250807T122618Z
LAST-MODIFIED:20250807T122618Z
UID:1285-1779667200-1779753599@alma-tanguera-provence.fr
SUMMARY:LUNDI DE PENTECOTE / PAS DE COURS\, PAS DE PRATIQUE TANGO
DESCRIPTION:LUNDI 25 MAI 2026\, LUNDI DE PENTECOTE \nJOUR FERIE \nPAS DE COURS\, PAS DE PRATIQUE TANGO \nSALLES NON DISPONIBLES
URL:https://alma-tanguera-provence.fr/event/lundi-de-pentecote-pas-de-cours-pas-de-pratique-tango/
END:VEVENT
BEGIN:VEVENT
DTSTART;TZID=UTC:20260528T193000
DTEND;TZID=UTC:20260528T220000
DTSTAMP:20260421T170342
CREATED:20250807T111325Z
LAST-MODIFIED:20260227T143654Z
UID:1212-1779996600-1780005600@alma-tanguera-provence.fr
SUMMARY:PRATIQUE TANGO A DRAGUIGNAN
DESCRIPTION:de 19 h. 30 à 22 h. pratique tango argentin \n 
URL:https://alma-tanguera-provence.fr/event/pratique-tango-a-draguignan-11/
LOCATION:Club Leo Lagrange\, Draguignan\, France
END:VEVENT
BEGIN:VEVENT
DTSTART;TZID=UTC:20260601T193000
DTEND;TZID=UTC:20260601T220000
DTSTAMP:20260421T170342
CREATED:20250807T090140Z
LAST-MODIFIED:20260112T105322Z
UID:1125-1780342200-1780351200@alma-tanguera-provence.fr
SUMMARY:COURS KANE et BARBARA
DESCRIPTION:19 h. 30 cours Niveau 1 \n21 h. cours Niveau 2 \nTarif / 12 € le cours pour les adhérents \n15 € le cours pour les non-adhérents
URL:https://alma-tanguera-provence.fr/event/cours-kane-et-barbara-16/
LOCATION:Salle Hugony\, Espace J.C Hugony Place de la Libération\, Les Arcs-sur-Argens\, 83460\, France
END:VEVENT
BEGIN:VEVENT
DTSTART;TZID=UTC:20260604T190000
DTEND;TZID=UTC:20260604T220000
DTSTAMP:20260421T170342
CREATED:20250807T111526Z
LAST-MODIFIED:20260227T144142Z
UID:1214-1780599600-1780610400@alma-tanguera-provence.fr
SUMMARY:PRATIQUE TANGO  A DRAGUIGNAN
DESCRIPTION:  \n\n 19 h 30 à 22 h     PRATIQUE TANGO ARGENTIN
URL:https://alma-tanguera-provence.fr/event/pratique-tango-a-draguignan-12/
LOCATION:Club Leo Lagrange\, Draguignan\, France
END:VEVENT
BEGIN:VEVENT
DTSTART;TZID=UTC:20260606T200000
DTEND;TZID=UTC:20260606T235900
DTSTAMP:20260421T170342
CREATED:20250915T102330Z
LAST-MODIFIED:20251013T100022Z
UID:1548-1780776000-1780790340@alma-tanguera-provence.fr
SUMMARY:LA COQUETA
DESCRIPTION:Milonga…… deux salles\, deux ambiances \nTango traditionnel   et   Tango Alternatif \nDJ  /   GABRIEL SODINI (Argentine) pour le Tango Traditionnel  –  Salle 1 \nFABIO DE GIOVANNI (Nice) pour le Tango Alternatif  –    Salle 2 \nTarif  / 10 € pour les Adhérents  –  12 € pour les non-adhérents
URL:https://alma-tanguera-provence.fr/event/la-coqueta-9/
LOCATION:HYPE DANCE SCHOOL\, 229 VIA NOVA\, FREJUS\, 83600\, France
END:VEVENT
BEGIN:VEVENT
DTSTART;TZID=UTC:20260608T193000
DTEND;TZID=UTC:20260608T220000
DTSTAMP:20260421T170342
CREATED:20250807T121729Z
LAST-MODIFIED:20260305T140151Z
UID:1273-1780947000-1780956000@alma-tanguera-provence.fr
SUMMARY:PRATIQUE TANGO AUX ARCS
DESCRIPTION:de 19H30 à 22H00 pratique tango argentin \n 
URL:https://alma-tanguera-provence.fr/event/pratique-tango-aux-arcs-13/
LOCATION:Salle Hugony\, Espace J.C Hugony Place de la Libération\, Les Arcs-sur-Argens\, 83460\, France
END:VEVENT
BEGIN:VEVENT
DTSTART;TZID=UTC:20260611T193000
DTEND;TZID=UTC:20260611T220000
DTSTAMP:20260421T170342
CREATED:20250807T111736Z
LAST-MODIFIED:20260227T144043Z
UID:1217-1781206200-1781215200@alma-tanguera-provence.fr
SUMMARY:PRATIQUE TANGO A DRAGUIGNAN
DESCRIPTION:de 19 h. 30 à 22 h. pratique tango argentin \n 
URL:https://alma-tanguera-provence.fr/event/pratique-tango-a-draguignan-13/
LOCATION:Club Leo Lagrange\, Draguignan\, France
END:VEVENT
BEGIN:VEVENT
DTSTART;TZID=UTC:20260613T100000
DTEND;TZID=UTC:20260613T170000
DTSTAMP:20260421T170342
CREATED:20250729T073115Z
LAST-MODIFIED:20251013T095558Z
UID:780-1781344800-1781370000@alma-tanguera-provence.fr
SUMMARY:ATELIER TANGO LA MOTTE
DESCRIPTION:Cours Niveau 1  à  10 h. \nCours Niveau 2  à  11 h. \nAuberge Espagnole  à  12 h. \nMilonga de 14 h. à 17 h. \n12 € le cours pour les Adhérents  –  15 € le cours pour les Non-adhérents \nLa milonga est offerte aux participants du cours. Pour les extérieurs\, la milonga est à 5 €
URL:https://alma-tanguera-provence.fr/event/atelier-tango-la-motte-8/
LOCATION:Salle du Cercle\, Avenue Achille Rouvier\, La Motte\, 83920\, France
END:VEVENT
BEGIN:VEVENT
DTSTART;TZID=UTC:20260615T193000
DTEND;TZID=UTC:20260615T220000
DTSTAMP:20260421T170342
CREATED:20250807T090324Z
LAST-MODIFIED:20260112T105224Z
UID:1129-1781551800-1781560800@alma-tanguera-provence.fr
SUMMARY:COURS KANE et BARBARA
DESCRIPTION:19 h. 30 cours Niveau 1 \n21 h. cours Niveau 2 \nTarif / 12 € le cours pour les adhérents \n15 € le cours pour les non-adhérents
URL:https://alma-tanguera-provence.fr/event/cours-kane-et-barbara-17/
LOCATION:Salle Hugony\, Espace J.C Hugony Place de la Libération\, Les Arcs-sur-Argens\, 83460\, France
END:VEVENT
BEGIN:VEVENT
DTSTART;TZID=UTC:20260618T193000
DTEND;TZID=UTC:20260618T220000
DTSTAMP:20260421T170342
CREATED:20250807T111948Z
LAST-MODIFIED:20260227T144315Z
UID:1220-1781811000-1781820000@alma-tanguera-provence.fr
SUMMARY:PRATIQUE TANGO A DRAGUIGNAN
DESCRIPTION:  \n\n 19 h. 30 à 22 h    PRATIQUE TANGO ARGENTIN
URL:https://alma-tanguera-provence.fr/event/pratique-tango-a-draguignan-14/
LOCATION:Club Leo Lagrange\, Draguignan\, France
END:VEVENT
BEGIN:VEVENT
DTSTART;TZID=UTC:20260622T193000
DTEND;TZID=UTC:20260622T220000
DTSTAMP:20260421T170342
CREATED:20250807T121922Z
LAST-MODIFIED:20260305T140046Z
UID:1276-1782156600-1782165600@alma-tanguera-provence.fr
SUMMARY:PRATIQUE TANGO AUX ARCS
DESCRIPTION:de 19H30 à 22 h00 pratique tango argentin \n 
URL:https://alma-tanguera-provence.fr/event/pratique-tango-aux-arcs-14/
LOCATION:Salle Hugony\, Espace J.C Hugony Place de la Libération\, Les Arcs-sur-Argens\, 83460\, France
END:VEVENT
BEGIN:VEVENT
DTSTART;TZID=UTC:20260625T193000
DTEND;TZID=UTC:20260625T220000
DTSTAMP:20260421T170342
CREATED:20250807T112147Z
LAST-MODIFIED:20260227T144520Z
UID:1223-1782415800-1782424800@alma-tanguera-provence.fr
SUMMARY:PRATIQUE TANGO A DRAGUIGNAN
DESCRIPTION:de 19 h. 30 à 22 h. pratique tango argentin \n 
URL:https://alma-tanguera-provence.fr/event/pratique-tango-a-draguignan-15/
LOCATION:Club Leo Lagrange\, Draguignan\, France
END:VEVENT
BEGIN:VEVENT
DTSTART;TZID=UTC:20260629T193000
DTEND;TZID=UTC:20260629T220000
DTSTAMP:20260421T170342
CREATED:20250807T090443Z
LAST-MODIFIED:20260112T105130Z
UID:1131-1782761400-1782770400@alma-tanguera-provence.fr
SUMMARY:COURS avec KANE Y BARBARA
DESCRIPTION:19 h. 30 cours Niveau 1 \n21 h. cours Niveau 2 \nTarif / 12 € le cours pour les adhérents \n15 € le cours pour les non-adhérents
URL:https://alma-tanguera-provence.fr/event/1131/
LOCATION:Salle Hugony\, Espace J.C Hugony Place de la Libération\, Les Arcs-sur-Argens\, 83460\, France
END:VEVENT
END:VCALENDAR